Workbook
Name _ftn1: 'Scope Setting'!#REF!
Name _ftnref1: 'Scope Setting'!#REF!

Sheet Background data
C1: Life Cycle Assessment Support Template developed under the CARING NATURE project as part of the Decision Support System (DSS) tool developed in WP3. CARING NATURE has been funded by the European Union under the Grant Agreement No. 101137340. WP3 - Task 3.2- Life cycle multidimensional assessment model for HCPs (only the part of Environmental Life Cycle Assessment)
A2: Disclaimer | B2: This template does not reflect any real technology or process and is for support purposes only. The author and the Caring Nature partners take no responsibility for errors, mistakes, bugs, or other issues with this template. Please link back to the author and project consortium when using this template publicly!
A6: Normalization Process Environmental Lif Cycle Assessment
A7: In Life Cycle Assessment (LCA), environmental indicators quantify the potential environmental burden generated by a product system over its life cycle. For this reason, in comparative LCA assessment, the lower indicator values systematically correspond to better environmental performance. For each environmental impact indicator, the best-performing alternative is selected as the internal reference: Reference Indicator =min(Without Investment Scenario Indicator; With Investment Scenario Indicator) The normalised score is then calculated as: N =Scenario Indicator Result / Reference Indicator N=1corresponds to the better-performing alternative N>1 corresponds to the less-performing alternative
A8: Normalization Factors Social Life Cycle Assessment
A9: The Social Life Cycle Assessment (SLCA) results are already normalized and are presented in the form of scores (higher is better).
A11: Normalization Factors Life Cycle Costing
A12: In comparative Life cycle Costing (LCC), the lower cost indicator values systematically correspond to better performance. For each cost indicator, the best-performing alternative is selected as the internal reference: Reference Indicator =min(Without Investment Scenario Indicator; With Investment Scenario Indicator) The normalised score is then calculated as: N =Scenario Indicator Result / Reference Indicator N=1corresponds to the better-performing alternative N>1 corresponds to the less-performing alternative

Sheet Introduction
B1: Multidimensiona Life Cyclel Assessment Template developed under the CARING NATURE project as part of the Decision Support System (DSS) tool developed in WP3. CARING NATURE has been funded by the European Union under the Grant Agreement No. 101137340. WP3 - Task 3.2- Life cycle multidimensional assessment model for HCPs
A2: Disclaimer | B2: Please link back to the author and project consortium when using this template publicly!
B5: Multidimensiona Life Cyclel Assessment
C9: Criteria Level
C11: Environmental Life Cycle Assessment (ELCA) | H11: Social Life Cycle Assessment (SLCA) | M11: Life Cycle Costing (LCC)
C16: Sub-Criteria Level (LCA Indicators)
C18: Water use | H18: Occupational Health and Safety | M18: Net Present Life Cycle Cost per Functional Unit
C19: Cumulative energy demand | H19: Employment Conditions & Labor Rights | M19: Operating Cost
C20: Abiotic Depletion (ADP elements) | H20: Access & Quality to Health Services | M20: CAPEX Cost
C21: Abiotic Depletion (ADP fossil): | H21: Family Impacts
C22: Acidification Potential (AP) | H22: Community health and safety
C23: Eutrophication Potential (EP) | H23: Community wellbeing and social cohesion
C24: Freshwater Aquatic Ecotoxicity Potential (FAETP inf.)
C25: Global Warming Potential (GWP 100 years)
C26: Global Warming Potential (GWP 100 years), excl biogenic carbon
C27: Human Toxicity Potential (HTP inf.)
C28: Marine Aquatic Ecotoxicity Pot. (MAETP inf.)
C29: Ozone Layer Depletion Potential (ODP, steady state)
C30: Photochemical Ozone Creation Potential (POCP)
C31: Terrestric Ecotoxicity Potential (TETP inf.)
B34: Instructions
B35: Step 1 | C35: Fill in the "Goal Definition" worksheet. This sheet will enable the user to provide an overview of the purpose of the LCA, the analysed product, process or service, time frame, etc.
B36: Step 2 | C36: Fill in the "Scope Setting" worksheet. This sheet will enable the user to identify the unit of analysis (functional unit) and the system boundary .
B37: Step 3 | C37: Perform separately the Environmental Life Cycle, Social Life Cycle and Life Cycle Costing
B38: Step 4 | C38: Reply to the Criteria Weighting Survey

Sheet Data validation
C1: System Boundary
C2: Cradle to Gate
C3: Gate to Gate
C4: Cradle to Grave

Sheet Goal Definition
C1: Multidimensiona Life Cyclel Assessment Template developed under the CARING NATURE project as part of the Decision Support System (DSS) tool developed in WP3. CARING NATURE has been funded by the European Union under the Grant Agreement No. 101137340. WP3 - Task 3.2- Life cycle multidimensional assessment model for HCPs
B3: Step 1: Goal Definition | C3: In this phase the User will formulate the purpose of the Life Cycle Assessment (LCA) for a specific product, service, or process. In the provided tools the User will answer a series of questions that will enable to fulfil the main areas that need to be considered as defined by ISO 14044. LCA results are often strongly dependent on the choices made in this key phase. Note: When Environmental Life Cycle Assessment (E-LCA), Social Life Cycle Assessment (S-LCA), and Life Cycle Costing (LCC) are conducted within the same study, the Goal and Scope Definition shall be aligned and consistently applied across the three assessments. This alignment ensures that environmental, social, and economic results refer to the same system, functional unit, scenarios, geographic boundary, and time frame, thereby enabling integrated interpretation and informed decision-making.
B9: Application, Purpose, and
B11: Parameter | M11: Description
B12: Intended application | D12: Identify how the LCA results will be used. Within the context of the Caring Nature (CN) project, the primary application of the study is the comparison of alternative investment options for descision making purposes.
B16: Reasons of the study | D16: Define the drivers and motivations of the LCA and classifying the decision context as: Situation A: micro-level decision support (e.g. product- or project-related decisions); Situation B: meso- or macro-level decision support (e.g. strategies related to materials, technologies, or policies); Situation C: accounting studies without direct decision support (C1 including interactions with other systems, C2 excluding interactions). | M16: Within the Caring Nature project, the LCA is conducted to compare alternative investment scenarios in the healthcare sector and to support specific investment-related decisions. Therefore, the study is classified as a micro-level decision-support study (Situation A).
B20: Target audience, type of audience | D20: specifying the audience to whom the results of the LCA are intended to be communicated and the type of audience (internal, restricted external, public, technical, non-technical)
B24: Comparisons intended to be disclosed to the public | D24: Explicitly stating whether the LCA includes comparisons or comparative assertions and whether the comparisons are foreseen to be disclosed to the public (i.e., an audience outside the commissioner and the involved experts).
B28: Study Context
B30: Parameter | M30: Description
B31: Description of Investment | D31: The investment refers to the planned intervention, project, or technological implementation that modifies the current system in order to deliver a defined function or service. In the context of a comparative LCA, the investment must be described in technical and functional terms, rather than purely financial terms, to ensure consistency with the functional unit and comparability between scenarios. The investment includes all elements necessary for delivering the intended service, including construction or installation, operation, maintenance, and end-of-life management.
B35: Without Investment Scenario | D35: The Without Investment Scenario (also referred to as the baseline or reference scenario) represents the most plausible and realistic evolution of the system in the absence of the proposed investment. It reflects what would occur if the investment decision is not implemented. This scenario serves as the reference against which the environmental ,social and costs performance of the investment is assessed. It must be credible, technically feasible, and consistent with regulatory and market conditions.
B39: With Investment Scenario | D39: The With Investment Scenario represents the system configuration resulting from the implementation of the proposed investment. It includes all life cycle stages required to deliver the defined functional unit, including construction or installation, operation, maintenance, and end-of-life. This scenario reflects the expected technical, environmental, social, costs, and operational performance of the new system over the defined reference period.
B43: Geographic boundary | D43: The geographic boundary defines the spatial scope of the LCA study, specifying where the system operates and which geographical contexts are represented by the data used in the inventory and impact assessment. The geographic boundary affects environmental, social and costs profiles through variations in electricity mixes, climate conditions, transportation distances, infrastructure characteristics, and waste management systems.
B47: Time frame | D47: The time frame of the LCA defines the temporal scope over which the impacts of the compared scenarios are assessed. It includes the reference period for comparison, the temporal representativeness of the data used, and any assumptions regarding future changes in system performance or background conditions. The time frame ensures that both scenarios are evaluated over a consistent and comparable duration

Sheet Scope Setting
C1: Multidimensiona Life Cyclel Assessment Template developed under the CARING NATURE project as part of the Decision Support System (DSS) tool developed in WP3. CARING NATURE has been funded by the European Union under the Grant Agreement No. 101137340. WP3 - Task 3.2- Life cycle multidimensional assessment model for HCPs
B3: Step 2: Scope Setting | C3: In this phase the User will define in detail the object of the LCA, covered system and the unit of anaysis in line with the goal definition. In the provided tool the User will answer a series of questions that will enable to clearly define the scope of the LCA analysis defined by ISO 14044. Note: When Environmental Life Cycle Assessment (E-LCA), Social Life Cycle Assessment (S-LCA), and Life Cycle Costing (LCC) are conducted within the same study, the Goal and Scope Definition shall be aligned and consistently applied across the three assessments. This alignment ensures that environmental, social, and economic results refer to the same system, functional unit, scenarios, geographic boundary, and time frame, thereby enabling integrated interpretation and informed decision-making.
B9: Product System, Functional Unit, and Reference Flow
B11: Parameter | M11: Description
B12: Product System | D12: Collection of unit processes with elementary and product flows, performing one or more defined functions, and modelling the life cycle of a product.
B16: Functional Unit | D16: Quantified performance of a product system used as a reference unit, which provide the basis for comparison. The functional unit defines what is assessed, how much, how well, and for how long, ensuring that different scenarios or options can be compared consistently.
B20: Reference Flow | D20: Measure of the outputs from processes in a given product system required to fulfil the function expressed by the functional unit. The reference flow is the quantified output (or outputs) of the product system required to fulfil the functional unit and serves as the basis to which all other input and output flows in the life cycle inventory are related.
B24: System Boundaries and Unit Processes
B26: Parameter | M26: Description
B27: System Boundaries | D27: Define which life cycle stages and processes are included in the analysis: Gate-to-Gate: Assesses the environmental impacts associated with the production process itself, from the entry point of materials and energy into the system to the final output. This approach focuses on the operational phase of the analysed investment and does not consider upstream activities related to raw material extraction and energy supply, nor downstream impacts associated with use or end-of-life treatment. Cradle-to-Gate: Evaluates the environmental impacts of the investment from raw material extraction through manufacturing and processing, covering all activities up to the point where the final product or service is delivered. This approach excludes impacts related to the use phase and end-of-life treatment. Cradle-to-Grave: Provides a comprehensive assessment of the investment by covering the entire life cycle, from raw material extraction and production through use and operation to the end-of-life phase. This includes decommissioning, waste management, and, where relevant, recycling or recovery processes.

Sheet Criteria Weighting Survey
B1: Multidimensiona Life Cyclel Assessment Template developed under the CARING NATURE project as part of the Decision Support System (DSS) tool developed in WP3. CARING NATURE has been funded by the European Union under the Grant Agreement No. 101137340. WP3 - Task 3.2- Life cycle multidimensional assessment model for HCPs
A2: Disclaimer | B2: Please link back to the author and project consortium when using this template publicly!
B4: Filled by user
B5: auto fill
A7: Instructions
A8: *Kindly assign an importance score for each aspect using the Saaty scale provided in the "Background Data." For the less important aspect, use the reciprocal of the corresponding value. Example: If aspect S is moderately more important than aspect E, then in item number 1, for E vs S, enter =1/3
A10: Saaty scale
A11: Definition | B11: 1–9 Saaty scale | C11: Reciprocal
A12: Equal importance | B12: 1 | C12: =1/B12 -> 1
A13: Between equal and moderate | B13: 2 | C13: =1/B13 -> 0.5
A14: Moderate importance | B14: 3 | C14: =1/B14 -> 0.33333333
A15: Between moderate and strong | B15: 4 | C15: =1/B15 -> 0.25
A16: Strong importance | B16: 5 | C16: =1/B16 -> 0.2
A17: Between strong and very strong | B17: 6 | C17: =1/B17 -> 0.16666667
A18: Very strong importance | B18: 7 | C18: =1/B18 -> 0.14285714
A19: Between very strong and extreme | B19: 8 | C19: =1/B19 -> 0.125
A20: Extreme importance | B20: 9 | C20: =1/B20 -> 0.11111111
A23: Please provide an importance score based on the 1-9 Saaty scale (or its reciprocal) following the instrcution above
A24: Question 1- Provide an intensity importance score for the "Environmental Impacts (E)" compared to "Social Impacts (S)" | E24: 3
A25: Question 2 - Provide an intensity importance score for the "Environmental Impacts (E)" compared to "Costs Impacts (C)" | E25: 2
A26: Intensity importance score for the "Social Impacts (S)" compared to "Costs Impacts (C)" | E26: {=IF((E25/E24<1),(INDEX($C$12:$C$20,MATCH(MIN(ABS($C$12:$C$20-(E25/E24))),ABS($C$12:$C$20-(E25/E24)),0))),ROUND(E25/E24,0))} -> 0.5
A28: Please provide an importance score based on the 1-9 Saaty scale (or its reciprocal) following the instrcution above.
A29: Question 1- Provide an intensity importance score for the "Damage to Ecosystem" compared to "Ressource Depletion" | E29: 4 | J29: Water use | K29: Cumulative energy demand | L29: Abiotic Depletion (ADP elements) | M29: Abiotic Depletion (ADP fossil): | N29: Acidification Potential (AP) | O29: Eutrophication Potential (EP) | P29: Freshwater Aquatic Ecotoxicity Potential (FAETP inf.) | Q29: Global Warming Potential (GWP 100 years) | R29: Global Warming Potential (GWP 100 years), excl biogenic carbon | S29: Human Toxicity Potential (HTP inf.) | T29: Marine Aquatic Ecotoxicity Pot. (MAETP inf.) | U29: Ozone Layer Depletion Potential (ODP, steady state) | V29: Photochemical Ozone Creation Potential (POCP) | W29: Terrestric Ecotoxicity Potential (TETP inf.)
A30: Question 2 - Provide an intensity importance score for the "Damage to Ecosystem" compared to "Damage to Human Health" Note: Impact on ecosystem have indirect impact on human health | E30: 0.14 | I30: Resource Depletion | J30: X | K30: X | L30: X | M30: X
A31: Intensity importance score for the "Ressource Depletion" compared to "Human Health" | E31: {=IF((E30/E29<1),(INDEX($C$12:$C$20,MATCH(MIN(ABS($C$12:$C$20-(E30/E29))),ABS($C$12:$C$20-(E30/E29)),0))),ROUND(E30/E29,0))} -> 0.11111111 | I31: Human Health | N31: X | Q31: X | R31: X | S31: X | U31: X | V31: X
A32: Question 3: Provide an intensity importance for GWP value against all other indicators | E32: 2 | I32: Ecosystem | N32: X | O32: X | P32: X | Q32: X | R32: X | T32: X | U32: X | V32: X | W32: X
A34: Please provide an importance score based on the 1-9 Saaty scale (or its reciprocal) following the instrcution above
A35: Question 1- Provide an intensity importance score for the "Net Net Present Life Cycle Cost per Functional Unit " indicator compared to "CAPEX" indicator | E35: 2
A36: Question 2- Provide an intensity importance score for the "Net Net Present Life Cycle Cost per Functional Unit " indicator compared to "OPEX" indicator | E36: 2
A37: Intensity importance score for the "CAPEX" indicator compared to "OPEX" indicator | E37: {=IF((E36/E35<1),(INDEX($C$12:$C$20,MATCH(MIN(ABS($C$12:$C$20-(E36/E35))),ABS($C$12:$C$20-(E36/E35)),0))),ROUND(E36/E35,0))} -> 1
A39: Please provide an importance score based on the 1-9 Saaty scale (or its reciprocal).
A41: Stakeholder Group 1 | B41: Workers (direct/indirect), Medical, Nurses, OS, Admistrative staff, Contractors
A42: Stakeholder Group 2 | B42: Healthcare users/beneficiaries, Patients, Relatives
A43: Stakeholder Group 3 | B43: Local Communities
A45: Question 0: Which Stakeholder Group is most impacted by the investment
A46: Question 1- Provide an intensity importance score for the "Stakeholder Group 1" compared to "Stakeholder Group 2" | E46: 3
A47: Question 2- Provide an intensity importance score for the "Stakeholder Group 1" compared to "Stakeholder Group 3" | E47: 2
A48: Intensity importance score for the "Stakeholder Group 2"compared to "Stakeholder Group 3" | E48: {=IF((E47/E46<1),(INDEX($C$12:$C$20,MATCH(MIN(ABS($C$12:$C$20-(E47/E46))),ABS($C$12:$C$20-(E47/E46)),0))),ROUND(E47/E46,0))} -> 0.5

Sheet LCA results
C1: Multidimensiona Life Cyclel Assessment Template developed under the CARING NATURE project as part of the Decision Support System (DSS) tool developed in WP3. CARING NATURE has been funded by the European Union under the Grant Agreement No. 101137340. WP3 - Task 3.2- Life cycle multidimensional assessment model for HCPs (only the part of Environmental Life Cycle Assessment)
A2: Disclaimer | B2: Please link back to the author and project consortium when using this template publicly!
A4: To be filled in automatic from each specific LCA results | D4: LCA results | F4: Normalized Results
A5: Indicators | C5: Unit | D5: Without Investment Scenario Score | E5: With Investment Scenario Score | F5: Without Investment Scenario Score | G5: With Investment Scenario Score
A6: Environmental | B6: Water use | C6: m3/FU | F6: =D6/MIN(D6:E6) -> #DIV/0! | G6: =E6/MIN(D6:E6) -> #DIV/0!
B7: Cumulative energy demand | C7: MJ/FU | F7: =D7/MIN(D7:E7) -> #DIV/0! | G7: =E7/MIN(D7:E7) -> #DIV/0!
B8: Abiotic Depletion (ADP elements) | C8: kg Sb eq/FU | F8: =D8/MIN(D8:E8) -> #DIV/0! | G8: =E8/MIN(D8:E8) -> #DIV/0!
B9: Abiotic Depletion (ADP fossil): | C9: MJ/FU | F9: =D9/MIN(D9:E9) -> #DIV/0! | G9: =E9/MIN(D9:E9) -> #DIV/0!
B10: Acidification Potential (AP) | C10: kg SO2 eq/FU | F10: =D10/MIN(D10:E10) -> #DIV/0! | G10: =E10/MIN(D10:E10) -> #DIV/0!
B11: Eutrophication Potential (EP) | C11: kg Phosphate eq/FU | F11: =D11/MIN(D11:E11) -> #DIV/0! | G11: =E11/MIN(D11:E11) -> #DIV/0!
B12: Freshwater Aquatic Ecotoxicity Potential (FAETP inf.) | C12: kg DCB eq/FU | F12: =D12/MIN(D12:E12) -> #DIV/0! | G12: =E12/MIN(D12:E12) -> #DIV/0!
B13: Global Warming Potential (GWP 100 years) | C13: kg CO2 eq/FU | F13: =D13/MIN(D13:E13) -> #DIV/0! | G13: =E13/MIN(D13:E13) -> #DIV/0!
B14: Global Warming Potential (GWP 100 years), excl biogenic carbon | C14: kg CO2 eq/FU | F14: =D14/MIN(D14:E14) -> #DIV/0! | G14: =E14/MIN(D14:E14) -> #DIV/0!
B15: Human Toxicity Potential (HTP inf.) | C15: kg DCB eq/FU | F15: =D15/MIN(D15:E15) -> #DIV/0! | G15: =E15/MIN(D15:E15) -> #DIV/0!
B16: Marine Aquatic Ecotoxicity Pot. (MAETP inf.) | C16: kg DCB eq/FU | F16: =D16/MIN(D16:E16) -> #DIV/0! | G16: =E16/MIN(D16:E16) -> #DIV/0!
B17: Ozone Layer Depletion Potential (ODP, steady state) | C17: kg R11 eq/FU | F17: =D17/MIN(D17:E17) -> #DIV/0! | G17: =E17/MIN(D17:E17) -> #DIV/0!
B18: Photochemical Ozone Creation Potential (POCP) | C18: kg Ethene eq/FU | F18: =D18/MIN(D18:E18) -> #DIV/0! | G18: =E18/MIN(D18:E18) -> #DIV/0!
B19: Terrestric Ecotoxicity Potential (TETP inf.) | C19: kg DCB eq/FU | F19: =D19/MIN(D19:E19) -> #DIV/0! | G19: =E19/MIN(D19:E19) -> #DIV/0!
A20: Social | F20: =D20 -> 0 | G20: =E20 -> 0
B21: Occupational Health and Safety | C21: No unit (Score) | F21: =D21 -> 0 | G21: =E21 -> 0
B22: Employment Conditions & Labor Rights | C22: No unit (Score) | F22: =D22 -> 0 | G22: =E22 -> 0
B23: Access & Quality to Health Services | C23: No unit (Score) | F23: =D23 -> 0 | G23: =E23 -> 0
B24: Family Impacts | C24: No unit (Score) | F24: =D24 -> 0 | G24: =E24 -> 0
B25: Community health and safety | C25: No unit (Score) | F25: =D25 -> 0 | G25: =E25 -> 0
B26: Community wellbeing and social cohesion | C26: No unit (Score) | F26: =D26 -> 0 | G26: =E26 -> 0
A27: Costs | B27: Net Present Life Cycle Cost per Functional Unit | C27: €/FU | F27: =D27/MIN(D27:E27) -> #DIV/0! | G27: =E27/MIN(D27:E27) -> #DIV/0!
B28: Operating Cost | C28: € | F28: =D28/MIN(D28:E28) -> #DIV/0! | G28: =E28/MIN(D28:E28) -> #DIV/0!
B29: CAPEX Cost | C29: € | F29: =D29/MIN(D29:E29) -> #DIV/0! | G29: =E29/MIN(D29:E29) -> #DIV/0!

Sheet Criteria weights
B1: Multidimensiona Life Cyclel Assessment Template developed under the CARING NATURE project as part of the Decision Support System (DSS) tool developed in WP3. CARING NATURE has been funded by the European Union under the Grant Agreement No. 101137340. WP3 - Task 3.2- Life cycle multidimensional assessment model for HCPs (only the part of Environmental Life Cycle Assessment)
A2: Disclaimer | B2: Please link back to the author and project consortium when using this template publicly!
A5: Pairwise comparison matrix: Done in automatic by the software
C7: Environmental | D7: Social | E7: Costs
B8: Environmental | C8: 1 | D8: ='Criteria Weighting Survey'!E24 -> 3 | E8: ='Criteria Weighting Survey'!E25 -> 2
B9: Social | C9: =1/D8 -> 0.33333333 | D9: 1 | E9: ='Criteria Weighting Survey'!E26 -> 0.5
B10: Costs | C10: =1/E8 -> 0.5 | D10: =1/E9 -> 2 | E10: 1
A12: Weight calculations: Done in automatic by the software
C13: Environmental | D13: Social | E13: Costs | F13: Row total | G13: Weight
B14: Environmental | C14: =$C$8*C8+$D$8*C9+$E$8*C10 -> 3 | D14: =$C$8*D8+$D$8*D9+$E$8*D10 -> 10 | E14: =$C$8*E8+$D$8*E9+$E$8*E10 -> 5.5 | F14: =SUM(C14:E14) -> 18.5 | G14: =F14/$F$17 -> 0.54014599
B15: Social | C15: =$C$9*C8+$D$9*C9+$E$9*C10 -> 0.91666667 | D15: =$C$9*D8+$D$9*D9+$E$9*D10 -> 3 | E15: =$C$9*E8+$D$9*E9+$E$9*E10 -> 1.6666667 | F15: =SUM(C15:E15) -> 5.5833333 | G15: =F15/$F$17 -> 0.16301703
B16: Costs | C16: =$C$10*C8+$D$10*C9+$E$10*C10 -> 1.6666667 | D16: =$C$10*D8+$D$10*D9+$E$10*D10 -> 5.5 | E16: =$C$10*E8+$D$10*E9+$E$10*E10 -> 3 | F16: =SUM(C16:E16) -> 10.166667 | G16: =F16/$F$17 -> 0.29683698
E17: sum | F17: =SUM(F14:F16) -> 34.25 | G17: =SUM(G14:G16) -> 1
A20: Consistency check: Done in automatic by the software, the User will see only the message to check score if "Inconsistent"
B21: Normalized weight (Aw)
B22: {=MMULT(C8:E10,G14:G16)} -> 1.622871 | C22: =B22/G14 -> 3.0045045
B23: 0.49148418 | C23: =B23/G15 -> 3.0149254
B24: 0.89294404 | C24: =B24/G16 -> 3.0081967
B26: λmax | C26: =AVERAGE(C22:C24) -> 3.0092089
B27: CI | C27: =(C26-3)/2 -> 0.0046044332
B28: CR | C28: =C27/0.5799 -> 0.0079400468
B30: Comparisons results are | C30: =IF(C28<0.1,"Consistent","Inconsistent") -> Consistent
B31: If the results are inconsistent , kindly revise the importance score provided above in questions 1,2 and 3

Sheet Env.-Sub-criteria weights
B1: Multidimensiona Life Cyclel Assessment Template developed under the CARING NATURE project as part of the Decision Support System (DSS) tool developed in WP3. CARING NATURE has been funded by the European Union under the Grant Agreement No. 101137340. WP3 - Task 3.2- Life cycle multidimensional assessment model for HCPs
A2: Disclaimer | B2: Please link back to the author and project consortium when using this template publicly!
B4: auto fill
C5: Indicator Score
B6: Water use | C6: =N20 -> 0.054408646
B7: Cumulative energy demand | C7: =N20 -> 0.054408646
B8: Abiotic Depletion (ADP elements) | C8: =N20 -> 0.054408646
B9: Abiotic Depletion (ADP fossil): | C9: =N20 -> 0.054408646
B10: Acidification Potential (AP) | C10: =MAX(N21,N22) -> 0.79035388
B11: Eutrophication Potential (EP) | C11: =N22 -> 0.15523748 | H11: Pairwise comparison matrix: Done in automatic by the software
B12: Freshwater Aquatic Ecotoxicity Potential (FAETP inf.) | C12: =N22 -> 0.15523748
B13: Global Warming Potential (GWP 100 years) | C13: =MAX(N21,N22) -> 0.79035388 | J13: Resource Depletion | K13: Human Health | L13: Ecosystem
B14: Global Warming Potential (GWP 100 years), excl biogenic carbon | C14: =MAX(N21,N22) -> 0.79035388 | I14: Resource Depletion | J14: 1 | K14: ='Criteria Weighting Survey'!E31 -> 0.11111111 | L14: =1/J16 -> 0.25
B15: Human Toxicity Potential (HTP inf.) | C15: =N21 -> 0.79035388 | I15: Human Health | J15: =1/K14 -> 9 | K15: 1 | L15: =1/K16 -> 7.1428571
B16: Marine Aquatic Ecotoxicity Pot. (MAETP inf.) | C16: =N22 -> 0.15523748 | I16: Ecosystem | J16: ='Criteria Weighting Survey'!E29 -> 4 | K16: ='Criteria Weighting Survey'!E30 -> 0.14 | L16: 1
B17: Ozone Layer Depletion Potential (ODP, steady state) | C17: =MAX(N21,N22) -> 0.79035388
B18: Photochemical Ozone Creation Potential (POCP) | C18: =MAX(N21,N22) -> 0.79035388 | H18: Weight calculations: Done in automatic by the software
B19: Terrestric Ecotoxicity Potential (TETP inf.) | C19: =N22 -> 0.15523748 | J19: Resource Depletion | K19: Human Health | L19: Ecosystem | M19: Row total | N19: Weight
I20: Resource Depletion | J20: =$J$14*J14+$K$14*J15+$L$14*J16 -> 3 | K20: =$J$14*K14+$K$14*K15+$L$14*K16 -> 0.25722222 | L20: =$J$14*L14+$K$14*L15+$L$14*L16 -> 1.2936508 | M20: =SUM(J20:L20) -> 4.550873 | N20: =M20/$M$23 -> 0.054408646
I21: Human Health | J21: =$J$15*J14+$K$15*J15+$L$15*J16 -> 46.571429 | K21: =$J$15*K14+$K$15*K15+$L$15*K16 -> 3 | L21: =$J$15*L14+$K$15*L15+$L$15*L16 -> 16.535714 | M21: =SUM(J21:L21) -> 66.107143 | N21: =M21/$M$23 -> 0.79035388
I22: Ecosystem | J22: =$J$16*J14+$K$16*J15+$L$16*J16 -> 9.26 | K22: =$J$16*K14+$K$16*K15+$L$16*K16 -> 0.72444444 | L22: =$J$16*L14+$K$16*L15+$L$16*L16 -> 3 | M22: =SUM(J22:L22) -> 12.984444 | N22: =M22/$M$23 -> 0.15523748
L23: sum | M23: =SUM(M20:M22) -> 83.64246 | N23: =SUM(N20:N22) -> 1
A30: Pairwise comparison matrix: Done in automatic by the software
C32: Water use | D32: Cumulative energy demand | E32: ADP elements | F32: ADP fossil | G32: AP | H32: EP | I32: FAETP inf. | J32: GWP | K32: GWP , excl biogenic carbon | L32: HTP inf. | M32: MAETP inf. | N32: ODP | O32: POCP | P32: TETP inf.
A33: 1 | B33: Water use | C33: {=IF((C6/$C$6<1),(INDEX('Criteria Weighting Survey'!$C$12:$C$20,MATCH(MIN(ABS('Criteria Weighting Survey'!$C$12:$C$20-(C6/$C$6))),ABS('Criteria Weighting Survey'!$C$12:$C$20-(C6/$C$6)),0))),ROUND(C6/$C$6,0))} -> 1 | D33: {=IF((C6/$C$7<1),(INDEX('Criteria Weighting Survey'!$C$12:$C$20,MATCH(MIN(ABS('Criteria Weighting Survey'!$C$12:$C$20-(C6/$C$7))),ABS('Criteria Weighting Survey'!$C$12:$C$20-(C6/$C$7)),0))),ROUND(C6/$C$7,0))} -> 1 | E33: {=IF((C6/$C$8<1),(INDEX('Criteria Weighting Survey'!$C$12:$C$20,MATCH(MIN(ABS('Criteria Weighting Survey'!$C$12:$C$20-(C6/$C$8))),ABS('Criteria Weighting Survey'!$C$12:$C$20-(C6/$C$8)),0))),ROUND(C6/$C$8,0))} -> 1 | F33: {=IF((C6/$C$9<1),(INDEX('Criteria Weighting Survey'!$C$12:$C$20,MATCH(MIN(ABS('Criteria Weighting Survey'!$C$12:$C$20-(C6/$C$9))),ABS('Criteria Weighting Survey'!$C$12:$C$20-(C6/$C$9)),0))),ROUND(C6/$C$9,0))} -> 1 | G33: {=IF((C6/$C$10<1),(INDEX('Criteria Weighting Survey'!$C$12:$C$20,MATCH(MIN(ABS('Criteria Weighting Survey'!$C$12:$C$20-(C6/$C$10))),ABS('Criteria Weighting Survey'!$C$12:$C$20-(C6/$C$10)),0))),ROUND(C6/$C$10,0))} -> 0.11111111 | H33: {=IF((C6/$C$11<1),(INDEX('Criteria Weighting Survey'!$C$12:$C$20,MATCH(MIN(ABS('Criteria Weighting Survey'!$C$12:$C$20-(C6/$C$11))),ABS('Criteria Weighting Survey'!$C$12:$C$20-(C6/$C$11)),0))),ROUND(C6/$C$11,0))} -> 0.33333333 | I33: {=IF((C6/$C$12<1),(INDEX('Criteria Weighting Survey'!$C$12:$C$20,MATCH(MIN(ABS('Criteria Weighting Survey'!$C$12:$C$20-(C6/$C$12))),ABS('Criteria Weighting Survey'!$C$12:$C$20-(C6/$C$12)),0))),ROUND(C6/$C$12,0))} -> 0.33333333 | J33: =1/'Criteria Weighting Survey'!$E$32 -> 0.5 | K33: {=IF((C6/$C$14<1),(INDEX('Criteria Weighting Survey'!$C$12:$C$20,MATCH(MIN(ABS('Criteria Weighting Survey'!$C$12:$C$20-(C6/$C$14))),ABS('Criteria Weighting Survey'!$C$12:$C$20-(C6/$C$14)),0))),ROUND(C6/$C$14,0))} -> 0.11111111 | L33: {=IF((C6/$C$15<1),(INDEX('Criteria Weighting Survey'!$C$12:$C$20,MATCH(MIN(ABS('Criteria Weighting Survey'!$C$12:$C$20-(C6/$C$15))),ABS('Criteria Weighting Survey'!$C$12:$C$20-(C6/$C$15)),0))),ROUND(C6/$C$15,0))} -> 0.11111111 | M33: {=IF((C6/$C$16<1),(INDEX('Criteria Weighting Survey'!$C$12:$C$20,MATCH(MIN(ABS('Criteria Weighting Survey'!$C$12:$C$20-(C6/$C$16))),ABS('Criteria Weighting Survey'!$C$12:$C$20-(C6/$C$16)),0))),ROUND(C6/$C$16,0))} -> 0.33333333 | N33: {=IF((C6/$C$17<1),(INDEX('Criteria Weighting Survey'!$C$12:$C$20,MATCH(MIN(ABS('Criteria Weighting Survey'!$C$12:$C$20-(C6/$C$17))),ABS('Criteria Weighting Survey'!$C$12:$C$20-(C6/$C$17)),0))),ROUND(C6/$C$17,0))} -> 0.11111111 | O33: {=IF((C6/$C$18<1),(INDEX('Criteria Weighting Survey'!$C$12:$C$20,MATCH(MIN(ABS('Criteria Weighting Survey'!$C$12:$C$20-(C6/$C$18))),ABS('Criteria Weighting Survey'!$C$12:$C$20-(C6/$C$18)),0))),ROUND(C6/$C$18,0))} -> 0.11111111 | P33: {=IF((C6/$C$19<1),(INDEX('Criteria Weighting Survey'!$C$12:$C$20,MATCH(MIN(ABS('Criteria Weighting Survey'!$C$12:$C$20-(C6/$C$19))),ABS('Criteria Weighting Survey'!$C$12:$C$20-(C6/$C$19)),0))),ROUND(C6/$C$19,0))} -> 0.33333333
A34: 2 | B34: Cumulative energy demand | C34: {=IF((C7/$C$6<1),(INDEX('Criteria Weighting Survey'!$C$12:$C$20,MATCH(MIN(ABS('Criteria Weighting Survey'!$C$12:$C$20-(C7/$C$6))),ABS('Criteria Weighting Survey'!$C$12:$C$20-(C7/$C$6)),0))),ROUND(C7/$C$6,0))} -> 1 | D34: {=IF((C7/$C$7<1),(INDEX('Criteria Weighting Survey'!$C$12:$C$20,MATCH(MIN(ABS('Criteria Weighting Survey'!$C$12:$C$20-(C7/$C$7))),ABS('Criteria Weighting Survey'!$C$12:$C$20-(C7/$C$7)),0))),ROUND(C7/$C$7,0))} -> 1 | E34: {=IF((C7/$C$8<1),(INDEX('Criteria Weighting Survey'!$C$12:$C$20,MATCH(MIN(ABS('Criteria Weighting Survey'!$C$12:$C$20-(C7/$C$8))),ABS('Criteria Weighting Survey'!$C$12:$C$20-(C7/$C$8)),0))),ROUND(C7/$C$8,0))} -> 1 | F34: {=IF((C7/$C$9<1),(INDEX('Criteria Weighting Survey'!$C$12:$C$20,MATCH(MIN(ABS('Criteria Weighting Survey'!$C$12:$C$20-(C7/$C$9))),ABS('Criteria Weighting Survey'!$C$12:$C$20-(C7/$C$9)),0))),ROUND(C7/$C$9,0))} -> 1 | G34: {=IF((C7/$C$10<1),(INDEX('Criteria Weighting Survey'!$C$12:$C$20,MATCH(MIN(ABS('Criteria Weighting Survey'!$C$12:$C$20-(C7/$C$10))),ABS('Criteria Weighting Survey'!$C$12:$C$20-(C7/$C$10)),0))),ROUND(C7/$C$10,0))} -> 0.11111111 | H34: {=IF((C7/$C$11<1),(INDEX('Criteria Weighting Survey'!$C$12:$C$20,MATCH(MIN(ABS('Criteria Weighting Survey'!$C$12:$C$20-(C7/$C$11))),ABS('Criteria Weighting Survey'!$C$12:$C$20-(C7/$C$11)),0))),ROUND(C7/$C$11,0))} -> 0.33333333 | I34: {=IF((C7/$C$12<1),(INDEX('Criteria Weighting Survey'!$C$12:$C$20,MATCH(MIN(ABS('Criteria Weighting Survey'!$C$12:$C$20-(C7/$C$12))),ABS('Criteria Weighting Survey'!$C$12:$C$20-(C7/$C$12)),0))),ROUND(C7/$C$12,0))} -> 0.33333333 | J34: =1/'Criteria Weighting Survey'!$E$32 -> 0.5 | K34: {=IF((C7/$C$14<1),(INDEX('Criteria Weighting Survey'!$C$12:$C$20,MATCH(MIN(ABS('Criteria Weighting Survey'!$C$12:$C$20-(C7/$C$14))),ABS('Criteria Weighting Survey'!$C$12:$C$20-(C7/$C$14)),0))),ROUND(C7/$C$14,0))} -> 0.11111111 | L34: {=IF((C7/$C$15<1),(INDEX('Criteria Weighting Survey'!$C$12:$C$20,MATCH(MIN(ABS('Criteria Weighting Survey'!$C$12:$C$20-(C7/$C$15))),ABS('Criteria Weighting Survey'!$C$12:$C$20-(C7/$C$15)),0))),ROUND(C7/$C$15,0))} -> 0.11111111 | M34: {=IF((C7/$C$16<1),(INDEX('Criteria Weighting Survey'!$C$12:$C$20,MATCH(MIN(ABS('Criteria Weighting Survey'!$C$12:$C$20-(C7/$C$16))),ABS('Criteria Weighting Survey'!$C$12:$C$20-(C7/$C$16)),0))),ROUND(C7/$C$16,0))} -> 0.33333333 | N34: {=IF((C7/$C$17<1),(INDEX('Criteria Weighting Survey'!$C$12:$C$20,MATCH(MIN(ABS('Criteria Weighting Survey'!$C$12:$C$20-(C7/$C$17))),ABS('Criteria Weighting Survey'!$C$12:$C$20-(C7/$C$17)),0))),ROUND(C7/$C$17,0))} -> 0.11111111 | O34: {=IF((C7/$C$18<1),(INDEX('Criteria Weighting Survey'!$C$12:$C$20,MATCH(MIN(ABS('Criteria Weighting Survey'!$C$12:$C$20-(C7/$C$18))),ABS('Criteria Weighting Survey'!$C$12:$C$20-(C7/$C$18)),0))),ROUND(C7/$C$18,0))} -> 0.11111111 | P34: {=IF((C7/$C$19<1),(INDEX('Criteria Weighting Survey'!$C$12:$C$20,MATCH(MIN(ABS('Criteria Weighting Survey'!$C$12:$C$20-(C7/$C$19))),ABS('Criteria Weighting Survey'!$C$12:$C$20-(C7/$C$19)),0))),ROUND(C7/$C$19,0))} -> 0.33333333
A35: 3 | B35: ADP elements | C35: {=IF((C8/$C$6<1),(INDEX('Criteria Weighting Survey'!$C$12:$C$20,MATCH(MIN(ABS('Criteria Weighting Survey'!$C$12:$C$20-(C8/$C$6))),ABS('Criteria Weighting Survey'!$C$12:$C$20-(C8/$C$6)),0))),ROUND(C8/$C$6,0))} -> 1 | D35: {=IF((C8/$C$7<1),(INDEX('Criteria Weighting Survey'!$C$12:$C$20,MATCH(MIN(ABS('Criteria Weighting Survey'!$C$12:$C$20-(C8/$C$7))),ABS('Criteria Weighting Survey'!$C$12:$C$20-(C8/$C$7)),0))),ROUND(C8/$C$7,0))} -> 1 | E35: {=IF((C8/$C$8<1),(INDEX('Criteria Weighting Survey'!$C$12:$C$20,MATCH(MIN(ABS('Criteria Weighting Survey'!$C$12:$C$20-(C8/$C$8))),ABS('Criteria Weighting Survey'!$C$12:$C$20-(C8/$C$8)),0))),ROUND(C8/$C$8,0))} -> 1 | F35: {=IF((C8/$C$9<1),(INDEX('Criteria Weighting Survey'!$C$12:$C$20,MATCH(MIN(ABS('Criteria Weighting Survey'!$C$12:$C$20-(C8/$C$9))),ABS('Criteria Weighting Survey'!$C$12:$C$20-(C8/$C$9)),0))),ROUND(C8/$C$9,0))} -> 1 | G35: {=IF((C8/$C$10<1),(INDEX('Criteria Weighting Survey'!$C$12:$C$20,MATCH(MIN(ABS('Criteria Weighting Survey'!$C$12:$C$20-(C8/$C$10))),ABS('Criteria Weighting Survey'!$C$12:$C$20-(C8/$C$10)),0))),ROUND(C8/$C$10,0))} -> 0.11111111 | H35: {=IF((C8/$C$11<1),(INDEX('Criteria Weighting Survey'!$C$12:$C$20,MATCH(MIN(ABS('Criteria Weighting Survey'!$C$12:$C$20-(C8/$C$11))),ABS('Criteria Weighting Survey'!$C$12:$C$20-(C8/$C$11)),0))),ROUND(C8/$C$11,0))} -> 0.33333333 | I35: {=IF((C8/$C$12<1),(INDEX('Criteria Weighting Survey'!$C$12:$C$20,MATCH(MIN(ABS('Criteria Weighting Survey'!$C$12:$C$20-(C8/$C$12))),ABS('Criteria Weighting Survey'!$C$12:$C$20-(C8/$C$12)),0))),ROUND(C8/$C$12,0))} -> 0.33333333 | J35: =1/'Criteria Weighting Survey'!$E$32 -> 0.5 | K35: {=IF((C8/$C$14<1),(INDEX('Criteria Weighting Survey'!$C$12:$C$20,MATCH(MIN(ABS('Criteria Weighting Survey'!$C$12:$C$20-(C8/$C$14))),ABS('Criteria Weighting Survey'!$C$12:$C$20-(C8/$C$14)),0))),ROUND(C8/$C$14,0))} -> 0.11111111 | L35: {=IF((C8/$C$15<1),(INDEX('Criteria Weighting Survey'!$C$12:$C$20,MATCH(MIN(ABS('Criteria Weighting Survey'!$C$12:$C$20-(C8/$C$15))),ABS('Criteria Weighting Survey'!$C$12:$C$20-(C8/$C$15)),0))),ROUND(C8/$C$15,0))} -> 0.11111111 | M35: {=IF((C8/$C$16<1),(INDEX('Criteria Weighting Survey'!$C$12:$C$20,MATCH(MIN(ABS('Criteria Weighting Survey'!$C$12:$C$20-(C8/$C$16))),ABS('Criteria Weighting Survey'!$C$12:$C$20-(C8/$C$16)),0))),ROUND(C8/$C$16,0))} -> 0.33333333 | N35: {=IF((C8/$C$17<1),(INDEX('Criteria Weighting Survey'!$C$12:$C$20,MATCH(MIN(ABS('Criteria Weighting Survey'!$C$12:$C$20-(C8/$C$17))),ABS('Criteria Weighting Survey'!$C$12:$C$20-(C8/$C$17)),0))),ROUND(C8/$C$17,0))} -> 0.11111111 | O35: {=IF((C8/$C$18<1),(INDEX('Criteria Weighting Survey'!$C$12:$C$20,MATCH(MIN(ABS('Criteria Weighting Survey'!$C$12:$C$20-(C8/$C$18))),ABS('Criteria Weighting Survey'!$C$12:$C$20-(C8/$C$18)),0))),ROUND(C8/$C$18,0))} -> 0.11111111 | P35: {=IF((C8/$C$19<1),(INDEX('Criteria Weighting Survey'!$C$12:$C$20,MATCH(MIN(ABS('Criteria Weighting Survey'!$C$12:$C$20-(C8/$C$19))),ABS('Criteria Weighting Survey'!$C$12:$C$20-(C8/$C$19)),0))),ROUND(C8/$C$19,0))} -> 0.33333333
A36: 4 | B36: ADP fossil | C36: {=IF((C9/$C$6<1),(INDEX('Criteria Weighting Survey'!$C$12:$C$20,MATCH(MIN(ABS('Criteria Weighting Survey'!$C$12:$C$20-(C9/$C$6))),ABS('Criteria Weighting Survey'!$C$12:$C$20-(C9/$C$6)),0))),ROUND(C9/$C$6,0))} -> 1 | D36: {=IF((C9/$C$7<1),(INDEX('Criteria Weighting Survey'!$C$12:$C$20,MATCH(MIN(ABS('Criteria Weighting Survey'!$C$12:$C$20-(C9/$C$7))),ABS('Criteria Weighting Survey'!$C$12:$C$20-(C9/$C$7)),0))),ROUND(C9/$C$7,0))} -> 1 | E36: {=IF((C9/$C$8<1),(INDEX('Criteria Weighting Survey'!$C$12:$C$20,MATCH(MIN(ABS('Criteria Weighting Survey'!$C$12:$C$20-(C9/$C$8))),ABS('Criteria Weighting Survey'!$C$12:$C$20-(C9/$C$8)),0))),ROUND(C9/$C$8,0))} -> 1 | F36: {=IF((C9/$C$9<1),(INDEX('Criteria Weighting Survey'!$C$12:$C$20,MATCH(MIN(ABS('Criteria Weighting Survey'!$C$12:$C$20-(C9/$C$9))),ABS('Criteria Weighting Survey'!$C$12:$C$20-(C9/$C$9)),0))),ROUND(C9/$C$9,0))} -> 1 | G36: {=IF((C9/$C$10<1),(INDEX('Criteria Weighting Survey'!$C$12:$C$20,MATCH(MIN(ABS('Criteria Weighting Survey'!$C$12:$C$20-(C9/$C$10))),ABS('Criteria Weighting Survey'!$C$12:$C$20-(C9/$C$10)),0))),ROUND(C9/$C$10,0))} -> 0.11111111 | H36: {=IF((C9/$C$11<1),(INDEX('Criteria Weighting Survey'!$C$12:$C$20,MATCH(MIN(ABS('Criteria Weighting Survey'!$C$12:$C$20-(C9/$C$11))),ABS('Criteria Weighting Survey'!$C$12:$C$20-(C9/$C$11)),0))),ROUND(C9/$C$11,0))} -> 0.33333333 | I36: {=IF((C9/$C$12<1),(INDEX('Criteria Weighting Survey'!$C$12:$C$20,MATCH(MIN(ABS('Criteria Weighting Survey'!$C$12:$C$20-(C9/$C$12))),ABS('Criteria Weighting Survey'!$C$12:$C$20-(C9/$C$12)),0))),ROUND(C9/$C$12,0))} -> 0.33333333 | J36: =1/'Criteria Weighting Survey'!$E$32 -> 0.5 | K36: {=IF((C9/$C$14<1),(INDEX('Criteria Weighting Survey'!$C$12:$C$20,MATCH(MIN(ABS('Criteria Weighting Survey'!$C$12:$C$20-(C9/$C$14))),ABS('Criteria Weighting Survey'!$C$12:$C$20-(C9/$C$14)),0))),ROUND(C9/$C$14,0))} -> 0.11111111 | L36: {=IF((C9/$C$15<1),(INDEX('Criteria Weighting Survey'!$C$12:$C$20,MATCH(MIN(ABS('Criteria Weighting Survey'!$C$12:$C$20-(C9/$C$15))),ABS('Criteria Weighting Survey'!$C$12:$C$20-(C9/$C$15)),0))),ROUND(C9/$C$15,0))} -> 0.11111111 | M36: {=IF((C9/$C$16<1),(INDEX('Criteria Weighting Survey'!$C$12:$C$20,MATCH(MIN(ABS('Criteria Weighting Survey'!$C$12:$C$20-(C9/$C$16))),ABS('Criteria Weighting Survey'!$C$12:$C$20-(C9/$C$16)),0))),ROUND(C9/$C$16,0))} -> 0.33333333 | N36: {=IF((C9/$C$17<1),(INDEX('Criteria Weighting Survey'!$C$12:$C$20,MATCH(MIN(ABS('Criteria Weighting Survey'!$C$12:$C$20-(C9/$C$17))),ABS('Criteria Weighting Survey'!$C$12:$C$20-(C9/$C$17)),0))),ROUND(C9/$C$17,0))} -> 0.11111111 | O36: {=IF((C9/$C$18<1),(INDEX('Criteria Weighting Survey'!$C$12:$C$20,MATCH(MIN(ABS('Criteria Weighting Survey'!$C$12:$C$20-(C9/$C$18))),ABS('Criteria Weighting Survey'!$C$12:$C$20-(C9/$C$18)),0))),ROUND(C9/$C$18,0))} -> 0.11111111 | P36: {=IF((C9/$C$19<1),(INDEX('Criteria Weighting Survey'!$C$12:$C$20,MATCH(MIN(ABS('Criteria Weighting Survey'!$C$12:$C$20-(C9/$C$19))),ABS('Criteria Weighting Survey'!$C$12:$C$20-(C9/$C$19)),0))),ROUND(C9/$C$19,0))} -> 0.33333333
A37: 5 | B37: AP | C37: {=IF((C10/$C$6<1),(INDEX('Criteria Weighting Survey'!$C$12:$C$20,MATCH(MIN(ABS('Criteria Weighting Survey'!$C$12:$C$20-(C10/$C$6))),ABS('Criteria Weighting Survey'!$C$12:$C$20-(C10/$C$6)),0))),ROUND(C10/$C$6,0))} -> 15 | D37: {=IF((C10/$C$7<1),(INDEX('Criteria Weighting Survey'!$C$12:$C$20,MATCH(MIN(ABS('Criteria Weighting Survey'!$C$12:$C$20-(C10/$C$7))),ABS('Criteria Weighting Survey'!$C$12:$C$20-(C10/$C$7)),0))),ROUND(C10/$C$7,0))} -> 15 | E37: {=IF((C10/$C$8<1),(INDEX('Criteria Weighting Survey'!$C$12:$C$20,MATCH(MIN(ABS('Criteria Weighting Survey'!$C$12:$C$20-(C10/$C$8))),ABS('Criteria Weighting Survey'!$C$12:$C$20-(C10/$C$8)),0))),ROUND(C10/$C$8,0))} -> 15 | F37: {=IF((C10/$C$9<1),(INDEX('Criteria Weighting Survey'!$C$12:$C$20,MATCH(MIN(ABS('Criteria Weighting Survey'!$C$12:$C$20-(C10/$C$9))),ABS('Criteria Weighting Survey'!$C$12:$C$20-(C10/$C$9)),0))),ROUND(C10/$C$9,0))} -> 15 | G37: {=IF((C10/$C$10<1),(INDEX('Criteria Weighting Survey'!$C$12:$C$20,MATCH(MIN(ABS('Criteria Weighting Survey'!$C$12:$C$20-(C10/$C$10))),ABS('Criteria Weighting Survey'!$C$12:$C$20-(C10/$C$10)),0))),ROUND(C10/$C$10,0))} -> 1 | H37: {=IF((C10/$C$11<1),(INDEX('Criteria Weighting Survey'!$C$12:$C$20,MATCH(MIN(ABS('Criteria Weighting Survey'!$C$12:$C$20-(C10/$C$11))),ABS('Criteria Weighting Survey'!$C$12:$C$20-(C10/$C$11)),0))),ROUND(C10/$C$11,0))} -> 5 | I37: {=IF((C10/$C$12<1),(INDEX('Criteria Weighting Survey'!$C$12:$C$20,MATCH(MIN(ABS('Criteria Weighting Survey'!$C$12:$C$20-(C10/$C$12))),ABS('Criteria Weighting Survey'!$C$12:$C$20-(C10/$C$12)),0))),ROUND(C10/$C$12,0))} -> 5 | J37: =1/'Criteria Weighting Survey'!$E$32 -> 0.5 | K37: {=IF((C10/$C$14<1),(INDEX('Criteria Weighting Survey'!$C$12:$C$20,MATCH(MIN(ABS('Criteria Weighting Survey'!$C$12:$C$20-(C10/$C$14))),ABS('Criteria Weighting Survey'!$C$12:$C$20-(C10/$C$14)),0))),ROUND(C10/$C$14,0))} -> 1 | L37: {=IF((C10/$C$15<1),(INDEX('Criteria Weighting Survey'!$C$12:$C$20,MATCH(MIN(ABS('Criteria Weighting Survey'!$C$12:$C$20-(C10/$C$15))),ABS('Criteria Weighting Survey'!$C$12:$C$20-(C10/$C$15)),0))),ROUND(C10/$C$15,0))} -> 1 | M37: {=IF((C10/$C$16<1),(INDEX('Criteria Weighting Survey'!$C$12:$C$20,MATCH(MIN(ABS('Criteria Weighting Survey'!$C$12:$C$20-(C10/$C$16))),ABS('Criteria Weighting Survey'!$C$12:$C$20-(C10/$C$16)),0))),ROUND(C10/$C$16,0))} -> 5 | N37: {=IF((C10/$C$17<1),(INDEX('Criteria Weighting Survey'!$C$12:$C$20,MATCH(MIN(ABS('Criteria Weighting Survey'!$C$12:$C$20-(C10/$C$17))),ABS('Criteria Weighting Survey'!$C$12:$C$20-(C10/$C$17)),0))),ROUND(C10/$C$17,0))} -> 1 | O37: {=IF((C10/$C$18<1),(INDEX('Criteria Weighting Survey'!$C$12:$C$20,MATCH(MIN(ABS('Criteria Weighting Survey'!$C$12:$C$20-(C10/$C$18))),ABS('Criteria Weighting Survey'!$C$12:$C$20-(C10/$C$18)),0))),ROUND(C10/$C$18,0))} -> 1 | P37: {=IF((C10/$C$19<1),(INDEX('Criteria Weighting Survey'!$C$12:$C$20,MATCH(MIN(ABS('Criteria Weighting Survey'!$C$12:$C$20-(C10/$C$19))),ABS('Criteria Weighting Survey'!$C$12:$C$20-(C10/$C$19)),0))),ROUND(C10/$C$19,0))} -> 5
A38: 6 | B38: EP | C38: {=IF((C11/$C$6<1),(INDEX('Criteria Weighting Survey'!$C$12:$C$20,MATCH(MIN(ABS('Criteria Weighting Survey'!$C$12:$C$20-(C11/$C$6))),ABS('Criteria Weighting Survey'!$C$12:$C$20-(C11/$C$6)),0))),ROUND(C11/$C$6,0))} -> 3 | D38: {=IF((C11/$C$7<1),(INDEX('Criteria Weighting Survey'!$C$12:$C$20,MATCH(MIN(ABS('Criteria Weighting Survey'!$C$12:$C$20-(C11/$C$7))),ABS('Criteria Weighting Survey'!$C$12:$C$20-(C11/$C$7)),0))),ROUND(C11/$C$7,0))} -> 3 | E38: {=IF((C11/$C$8<1),(INDEX('Criteria Weighting Survey'!$C$12:$C$20,MATCH(MIN(ABS('Criteria Weighting Survey'!$C$12:$C$20-(C11/$C$8))),ABS('Criteria Weighting Survey'!$C$12:$C$20-(C11/$C$8)),0))),ROUND(C11/$C$8,0))} -> 3 | F38: {=IF((C11/$C$9<1),(INDEX('Criteria Weighting Survey'!$C$12:$C$20,MATCH(MIN(ABS('Criteria Weighting Survey'!$C$12:$C$20-(C11/$C$9))),ABS('Criteria Weighting Survey'!$C$12:$C$20-(C11/$C$9)),0))),ROUND(C11/$C$9,0))} -> 3 | G38: {=IF((C11/$C$10<1),(INDEX('Criteria Weighting Survey'!$C$12:$C$20,MATCH(MIN(ABS('Criteria Weighting Survey'!$C$12:$C$20-(C11/$C$10))),ABS('Criteria Weighting Survey'!$C$12:$C$20-(C11/$C$10)),0))),ROUND(C11/$C$10,0))} -> 0.2 | H38: {=IF((C11/$C$11<1),(INDEX('Criteria Weighting Survey'!$C$12:$C$20,MATCH(MIN(ABS('Criteria Weighting Survey'!$C$12:$C$20-(C11/$C$11))),ABS('Criteria Weighting Survey'!$C$12:$C$20-(C11/$C$11)),0))),ROUND(C11/$C$11,0))} -> 1 | I38: {=IF((C11/$C$12<1),(INDEX('Criteria Weighting Survey'!$C$12:$C$20,MATCH(MIN(ABS('Criteria Weighting Survey'!$C$12:$C$20-(C11/$C$12))),ABS('Criteria Weighting Survey'!$C$12:$C$20-(C11/$C$12)),0))),ROUND(C11/$C$12,0))} -> 1 | J38: =1/'Criteria Weighting Survey'!$E$32 -> 0.5 | K38: {=IF((C11/$C$14<1),(INDEX('Criteria Weighting Survey'!$C$12:$C$20,MATCH(MIN(ABS('Criteria Weighting Survey'!$C$12:$C$20-(C11/$C$14))),ABS('Criteria Weighting Survey'!$C$12:$C$20-(C11/$C$14)),0))),ROUND(C11/$C$14,0))} -> 0.2 | L38: {=IF((C11/$C$15<1),(INDEX('Criteria Weighting Survey'!$C$12:$C$20,MATCH(MIN(ABS('Criteria Weighting Survey'!$C$12:$C$20-(C11/$C$15))),ABS('Criteria Weighting Survey'!$C$12:$C$20-(C11/$C$15)),0))),ROUND(C11/$C$15,0))} -> 0.2 | M38: {=IF((C11/$C$16<1),(INDEX('Criteria Weighting Survey'!$C$12:$C$20,MATCH(MIN(ABS('Criteria Weighting Survey'!$C$12:$C$20-(C11/$C$16))),ABS('Criteria Weighting Survey'!$C$12:$C$20-(C11/$C$16)),0))),ROUND(C11/$C$16,0))} -> 1 | N38: {=IF((C11/$C$17<1),(INDEX('Criteria Weighting Survey'!$C$12:$C$20,MATCH(MIN(ABS('Criteria Weighting Survey'!$C$12:$C$20-(C11/$C$17))),ABS('Criteria Weighting Survey'!$C$12:$C$20-(C11/$C$17)),0))),ROUND(C11/$C$17,0))} -> 0.2 | O38: {=IF((C11/$C$18<1),(INDEX('Criteria Weighting Survey'!$C$12:$C$20,MATCH(MIN(ABS('Criteria Weighting Survey'!$C$12:$C$20-(C11/$C$18))),ABS('Criteria Weighting Survey'!$C$12:$C$20-(C11/$C$18)),0))),ROUND(C11/$C$18,0))} -> 0.2 | P38: {=IF((C11/$C$19<1),(INDEX('Criteria Weighting Survey'!$C$12:$C$20,MATCH(MIN(ABS('Criteria Weighting Survey'!$C$12:$C$20-(C11/$C$19))),ABS('Criteria Weighting Survey'!$C$12:$C$20-(C11/$C$19)),0))),ROUND(C11/$C$19,0))} -> 1
A39: 7 | B39: FAETP inf. | C39: {=IF((C12/$C$6<1),(INDEX('Criteria Weighting Survey'!$C$12:$C$20,MATCH(MIN(ABS('Criteria Weighting Survey'!$C$12:$C$20-(C12/$C$6))),ABS('Criteria Weighting Survey'!$C$12:$C$20-(C12/$C$6)),0))),ROUND(C12/$C$6,0))} -> 3 | D39: {=IF((C12/$C$7<1),(INDEX('Criteria Weighting Survey'!$C$12:$C$20,MATCH(MIN(ABS('Criteria Weighting Survey'!$C$12:$C$20-(C12/$C$7))),ABS('Criteria Weighting Survey'!$C$12:$C$20-(C12/$C$7)),0))),ROUND(C12/$C$7,0))} -> 3 | E39: {=IF((C12/$C$8<1),(INDEX('Criteria Weighting Survey'!$C$12:$C$20,MATCH(MIN(ABS('Criteria Weighting Survey'!$C$12:$C$20-(C12/$C$8))),ABS('Criteria Weighting Survey'!$C$12:$C$20-(C12/$C$8)),0))),ROUND(C12/$C$8,0))} -> 3 | F39: {=IF((C12/$C$9<1),(INDEX('Criteria Weighting Survey'!$C$12:$C$20,MATCH(MIN(ABS('Criteria Weighting Survey'!$C$12:$C$20-(C12/$C$9))),ABS('Criteria Weighting Survey'!$C$12:$C$20-(C12/$C$9)),0))),ROUND(C12/$C$9,0))} -> 3 | G39: {=IF((C12/$C$10<1),(INDEX('Criteria Weighting Survey'!$C$12:$C$20,MATCH(MIN(ABS('Criteria Weighting Survey'!$C$12:$C$20-(C12/$C$10))),ABS('Criteria Weighting Survey'!$C$12:$C$20-(C12/$C$10)),0))),ROUND(C12/$C$10,0))} -> 0.2 | H39: {=IF((C12/$C$11<1),(INDEX('Criteria Weighting Survey'!$C$12:$C$20,MATCH(MIN(ABS('Criteria Weighting Survey'!$C$12:$C$20-(C12/$C$11))),ABS('Criteria Weighting Survey'!$C$12:$C$20-(C12/$C$11)),0))),ROUND(C12/$C$11,0))} -> 1 | I39: {=IF((C12/$C$12<1),(INDEX('Criteria Weighting Survey'!$C$12:$C$20,MATCH(MIN(ABS('Criteria Weighting Survey'!$C$12:$C$20-(C12/$C$12))),ABS('Criteria Weighting Survey'!$C$12:$C$20-(C12/$C$12)),0))),ROUND(C12/$C$12,0))} -> 1 | J39: =1/'Criteria Weighting Survey'!$E$32 -> 0.5 | K39: {=IF((C12/$C$14<1),(INDEX('Criteria Weighting Survey'!$C$12:$C$20,MATCH(MIN(ABS('Criteria Weighting Survey'!$C$12:$C$20-(C12/$C$14))),ABS('Criteria Weighting Survey'!$C$12:$C$20-(C12/$C$14)),0))),ROUND(C12/$C$14,0))} -> 0.2 | L39: {=IF((C12/$C$15<1),(INDEX('Criteria Weighting Survey'!$C$12:$C$20,MATCH(MIN(ABS('Criteria Weighting Survey'!$C$12:$C$20-(C12/$C$15))),ABS('Criteria Weighting Survey'!$C$12:$C$20-(C12/$C$15)),0))),ROUND(C12/$C$15,0))} -> 0.2 | M39: {=IF((C12/$C$16<1),(INDEX('Criteria Weighting Survey'!$C$12:$C$20,MATCH(MIN(ABS('Criteria Weighting Survey'!$C$12:$C$20-(C12/$C$16))),ABS('Criteria Weighting Survey'!$C$12:$C$20-(C12/$C$16)),0))),ROUND(C12/$C$16,0))} -> 1 | N39: {=IF((C12/$C$17<1),(INDEX('Criteria Weighting Survey'!$C$12:$C$20,MATCH(MIN(ABS('Criteria Weighting Survey'!$C$12:$C$20-(C12/$C$17))),ABS('Criteria Weighting Survey'!$C$12:$C$20-(C12/$C$17)),0))),ROUND(C12/$C$17,0))} -> 0.2 | O39: {=IF((C12/$C$18<1),(INDEX('Criteria Weighting Survey'!$C$12:$C$20,MATCH(MIN(ABS('Criteria Weighting Survey'!$C$12:$C$20-(C12/$C$18))),ABS('Criteria Weighting Survey'!$C$12:$C$20-(C12/$C$18)),0))),ROUND(C12/$C$18,0))} -> 0.2 | P39: {=IF((C12/$C$19<1),(INDEX('Criteria Weighting Survey'!$C$12:$C$20,MATCH(MIN(ABS('Criteria Weighting Survey'!$C$12:$C$20-(C12/$C$19))),ABS('Criteria Weighting Survey'!$C$12:$C$20-(C12/$C$19)),0))),ROUND(C12/$C$19,0))} -> 1
A40: 8 | B40: GWP | C40: ='Criteria Weighting Survey'!$E$32 -> 2 | D40: ='Criteria Weighting Survey'!$E$32 -> 2 | E40: ='Criteria Weighting Survey'!$E$32 -> 2 | F40: ='Criteria Weighting Survey'!$E$32 -> 2 | G40: ='Criteria Weighting Survey'!$E$32 -> 2 | H40: ='Criteria Weighting Survey'!$E$32 -> 2 | I40: ='Criteria Weighting Survey'!$E$32 -> 2 | J40: 1 | K40: ='Criteria Weighting Survey'!$E$32 -> 2 | L40: ='Criteria Weighting Survey'!$E$32 -> 2 | M40: ='Criteria Weighting Survey'!$E$32 -> 2 | N40: ='Criteria Weighting Survey'!$E$32 -> 2 | O40: ='Criteria Weighting Survey'!$E$32 -> 2 | P40: ='Criteria Weighting Survey'!$E$32 -> 2
A41: 9 | B41: GWP , excl biogenic carbon | C41: {=IF((C14/$C$6<1),(INDEX('Criteria Weighting Survey'!$C$12:$C$20,MATCH(MIN(ABS('Criteria Weighting Survey'!$C$12:$C$20-(C14/$C$6))),ABS('Criteria Weighting Survey'!$C$12:$C$20-(C14/$C$6)),0))),ROUND(C14/$C$6,0))} -> 15 | D41: {=IF((C14/$C$7<1),(INDEX('Criteria Weighting Survey'!$C$12:$C$20,MATCH(MIN(ABS('Criteria Weighting Survey'!$C$12:$C$20-(C14/$C$7))),ABS('Criteria Weighting Survey'!$C$12:$C$20-(C14/$C$7)),0))),ROUND(C14/$C$7,0))} -> 15 | E41: {=IF((C14/$C$8<1),(INDEX('Criteria Weighting Survey'!$C$12:$C$20,MATCH(MIN(ABS('Criteria Weighting Survey'!$C$12:$C$20-(C14/$C$8))),ABS('Criteria Weighting Survey'!$C$12:$C$20-(C14/$C$8)),0))),ROUND(C14/$C$8,0))} -> 15 | F41: {=IF((C14/$C$9<1),(INDEX('Criteria Weighting Survey'!$C$12:$C$20,MATCH(MIN(ABS('Criteria Weighting Survey'!$C$12:$C$20-(C14/$C$9))),ABS('Criteria Weighting Survey'!$C$12:$C$20-(C14/$C$9)),0))),ROUND(C14/$C$9,0))} -> 15 | G41: {=IF((C14/$C$10<1),(INDEX('Criteria Weighting Survey'!$C$12:$C$20,MATCH(MIN(ABS('Criteria Weighting Survey'!$C$12:$C$20-(C14/$C$10))),ABS('Criteria Weighting Survey'!$C$12:$C$20-(C14/$C$10)),0))),ROUND(C14/$C$10,0))} -> 1 | H41: {=IF((C14/$C$11<1),(INDEX('Criteria Weighting Survey'!$C$12:$C$20,MATCH(MIN(ABS('Criteria Weighting Survey'!$C$12:$C$20-(C14/$C$11))),ABS('Criteria Weighting Survey'!$C$12:$C$20-(C14/$C$11)),0))),ROUND(C14/$C$11,0))} -> 5 | I41: {=IF((C14/$C$12<1),(INDEX('Criteria Weighting Survey'!$C$12:$C$20,MATCH(MIN(ABS('Criteria Weighting Survey'!$C$12:$C$20-(C14/$C$12))),ABS('Criteria Weighting Survey'!$C$12:$C$20-(C14/$C$12)),0))),ROUND(C14/$C$12,0))} -> 5 | J41: =1/'Criteria Weighting Survey'!$E$32 -> 0.5 | K41: {=IF((C14/$C$14<1),(INDEX('Criteria Weighting Survey'!$C$12:$C$20,MATCH(MIN(ABS('Criteria Weighting Survey'!$C$12:$C$20-(C14/$C$14))),ABS('Criteria Weighting Survey'!$C$12:$C$20-(C14/$C$14)),0))),ROUND(C14/$C$14,0))} -> 1 | L41: {=IF((C14/$C$15<1),(INDEX('Criteria Weighting Survey'!$C$12:$C$20,MATCH(MIN(ABS('Criteria Weighting Survey'!$C$12:$C$20-(C14/$C$15))),ABS('Criteria Weighting Survey'!$C$12:$C$20-(C14/$C$15)),0))),ROUND(C14/$C$15,0))} -> 1 | M41: {=IF((C14/$C$16<1),(INDEX('Criteria Weighting Survey'!$C$12:$C$20,MATCH(MIN(ABS('Criteria Weighting Survey'!$C$12:$C$20-(C14/$C$16))),ABS('Criteria Weighting Survey'!$C$12:$C$20-(C14/$C$16)),0))),ROUND(C14/$C$16,0))} -> 5 | N41: {=IF((C14/$C$17<1),(INDEX('Criteria Weighting Survey'!$C$12:$C$20,MATCH(MIN(ABS('Criteria Weighting Survey'!$C$12:$C$20-(C14/$C$17))),ABS('Criteria Weighting Survey'!$C$12:$C$20-(C14/$C$17)),0))),ROUND(C14/$C$17,0))} -> 1 | O41: {=IF((C14/$C$18<1),(INDEX('Criteria Weighting Survey'!$C$12:$C$20,MATCH(MIN(ABS('Criteria Weighting Survey'!$C$12:$C$20-(C14/$C$18))),ABS('Criteria Weighting Survey'!$C$12:$C$20-(C14/$C$18)),0))),ROUND(C14/$C$18,0))} -> 1 | P41: {=IF((C14/$C$19<1),(INDEX('Criteria Weighting Survey'!$C$12:$C$20,MATCH(MIN(ABS('Criteria Weighting Survey'!$C$12:$C$20-(C14/$C$19))),ABS('Criteria Weighting Survey'!$C$12:$C$20-(C14/$C$19)),0))),ROUND(C14/$C$19,0))} -> 5
A42: 10 | B42: HTP inf. | C42: {=IF((C15/$C$6<1),(INDEX('Criteria Weighting Survey'!$C$12:$C$20,MATCH(MIN(ABS('Criteria Weighting Survey'!$C$12:$C$20-(C15/$C$6))),ABS('Criteria Weighting Survey'!$C$12:$C$20-(C15/$C$6)),0))),ROUND(C15/$C$6,0))} -> 15 | D42: {=IF((C15/$C$7<1),(INDEX('Criteria Weighting Survey'!$C$12:$C$20,MATCH(MIN(ABS('Criteria Weighting Survey'!$C$12:$C$20-(C15/$C$7))),ABS('Criteria Weighting Survey'!$C$12:$C$20-(C15/$C$7)),0))),ROUND(C15/$C$7,0))} -> 15 | E42: {=IF((C15/$C$8<1),(INDEX('Criteria Weighting Survey'!$C$12:$C$20,MATCH(MIN(ABS('Criteria Weighting Survey'!$C$12:$C$20-(C15/$C$8))),ABS('Criteria Weighting Survey'!$C$12:$C$20-(C15/$C$8)),0))),ROUND(C15/$C$8,0))} -> 15 | F42: {=IF((C15/$C$9<1),(INDEX('Criteria Weighting Survey'!$C$12:$C$20,MATCH(MIN(ABS('Criteria Weighting Survey'!$C$12:$C$20-(C15/$C$9))),ABS('Criteria Weighting Survey'!$C$12:$C$20-(C15/$C$9)),0))),ROUND(C15/$C$9,0))} -> 15 | G42: {=IF((C15/$C$10<1),(INDEX('Criteria Weighting Survey'!$C$12:$C$20,MATCH(MIN(ABS('Criteria Weighting Survey'!$C$12:$C$20-(C15/$C$10))),ABS('Criteria Weighting Survey'!$C$12:$C$20-(C15/$C$10)),0))),ROUND(C15/$C$10,0))} -> 1 | H42: {=IF((C15/$C$11<1),(INDEX('Criteria Weighting Survey'!$C$12:$C$20,MATCH(MIN(ABS('Criteria Weighting Survey'!$C$12:$C$20-(C15/$C$11))),ABS('Criteria Weighting Survey'!$C$12:$C$20-(C15/$C$11)),0))),ROUND(C15/$C$11,0))} -> 5 | I42: {=IF((C15/$C$12<1),(INDEX('Criteria Weighting Survey'!$C$12:$C$20,MATCH(MIN(ABS('Criteria Weighting Survey'!$C$12:$C$20-(C15/$C$12))),ABS('Criteria Weighting Survey'!$C$12:$C$20-(C15/$C$12)),0))),ROUND(C15/$C$12,0))} -> 5 | J42: =1/'Criteria Weighting Survey'!$E$32 -> 0.5 | K42: {=IF((C15/$C$14<1),(INDEX('Criteria Weighting Survey'!$C$12:$C$20,MATCH(MIN(ABS('Criteria Weighting Survey'!$C$12:$C$20-(C15/$C$14))),ABS('Criteria Weighting Survey'!$C$12:$C$20-(C15/$C$14)),0))),ROUND(C15/$C$14,0))} -> 1 | L42: {=IF((C15/$C$15<1),(INDEX('Criteria Weighting Survey'!$C$12:$C$20,MATCH(MIN(ABS('Criteria Weighting Survey'!$C$12:$C$20-(C15/$C$15))),ABS('Criteria Weighting Survey'!$C$12:$C$20-(C15/$C$15)),0))),ROUND(C15/$C$15,0))} -> 1 | M42: {=IF((C15/$C$16<1),(INDEX('Criteria Weighting Survey'!$C$12:$C$20,MATCH(MIN(ABS('Criteria Weighting Survey'!$C$12:$C$20-(C15/$C$16))),ABS('Criteria Weighting Survey'!$C$12:$C$20-(C15/$C$16)),0))),ROUND(C15/$C$16,0))} -> 5 | N42: {=IF((C15/$C$17<1),(INDEX('Criteria Weighting Survey'!$C$12:$C$20,MATCH(MIN(ABS('Criteria Weighting Survey'!$C$12:$C$20-(C15/$C$17))),ABS('Criteria Weighting Survey'!$C$12:$C$20-(C15/$C$17)),0))),ROUND(C15/$C$17,0))} -> 1 | O42: {=IF((C15/$C$18<1),(INDEX('Criteria Weighting Survey'!$C$12:$C$20,MATCH(MIN(ABS('Criteria Weighting Survey'!$C$12:$C$20-(C15/$C$18))),ABS('Criteria Weighting Survey'!$C$12:$C$20-(C15/$C$18)),0))),ROUND(C15/$C$18,0))} -> 1 | P42: {=IF((C15/$C$19<1),(INDEX('Criteria Weighting Survey'!$C$12:$C$20,MATCH(MIN(ABS('Criteria Weighting Survey'!$C$12:$C$20-(C15/$C$19))),ABS('Criteria Weighting Survey'!$C$12:$C$20-(C15/$C$19)),0))),ROUND(C15/$C$19,0))} -> 5
A43: 11 | B43: MAETP inf. | C43: {=IF((C16/$C$6<1),(INDEX('Criteria Weighting Survey'!$C$12:$C$20,MATCH(MIN(ABS('Criteria Weighting Survey'!$C$12:$C$20-(C16/$C$6))),ABS('Criteria Weighting Survey'!$C$12:$C$20-(C16/$C$6)),0))),ROUND(C16/$C$6,0))} -> 3 | D43: {=IF((C16/$C$7<1),(INDEX('Criteria Weighting Survey'!$C$12:$C$20,MATCH(MIN(ABS('Criteria Weighting Survey'!$C$12:$C$20-(C16/$C$7))),ABS('Criteria Weighting Survey'!$C$12:$C$20-(C16/$C$7)),0))),ROUND(C16/$C$7,0))} -> 3 | E43: {=IF((C16/$C$8<1),(INDEX('Criteria Weighting Survey'!$C$12:$C$20,MATCH(MIN(ABS('Criteria Weighting Survey'!$C$12:$C$20-(C16/$C$8))),ABS('Criteria Weighting Survey'!$C$12:$C$20-(C16/$C$8)),0))),ROUND(C16/$C$8,0))} -> 3 | F43: {=IF((C16/$C$9<1),(INDEX('Criteria Weighting Survey'!$C$12:$C$20,MATCH(MIN(ABS('Criteria Weighting Survey'!$C$12:$C$20-(C16/$C$9))),ABS('Criteria Weighting Survey'!$C$12:$C$20-(C16/$C$9)),0))),ROUND(C16/$C$9,0))} -> 3 | G43: {=IF((C16/$C$10<1),(INDEX('Criteria Weighting Survey'!$C$12:$C$20,MATCH(MIN(ABS('Criteria Weighting Survey'!$C$12:$C$20-(C16/$C$10))),ABS('Criteria Weighting Survey'!$C$12:$C$20-(C16/$C$10)),0))),ROUND(C16/$C$10,0))} -> 0.2 | H43: {=IF((C16/$C$11<1),(INDEX('Criteria Weighting Survey'!$C$12:$C$20,MATCH(MIN(ABS('Criteria Weighting Survey'!$C$12:$C$20-(C16/$C$11))),ABS('Criteria Weighting Survey'!$C$12:$C$20-(C16/$C$11)),0))),ROUND(C16/$C$11,0))} -> 1 | I43: {=IF((C16/$C$12<1),(INDEX('Criteria Weighting Survey'!$C$12:$C$20,MATCH(MIN(ABS('Criteria Weighting Survey'!$C$12:$C$20-(C16/$C$12))),ABS('Criteria Weighting Survey'!$C$12:$C$20-(C16/$C$12)),0))),ROUND(C16/$C$12,0))} -> 1 | J43: =1/'Criteria Weighting Survey'!$E$32 -> 0.5 | K43: {=IF((C16/$C$14<1),(INDEX('Criteria Weighting Survey'!$C$12:$C$20,MATCH(MIN(ABS('Criteria Weighting Survey'!$C$12:$C$20-(C16/$C$14))),ABS('Criteria Weighting Survey'!$C$12:$C$20-(C16/$C$14)),0))),ROUND(C16/$C$14,0))} -> 0.2 | L43: {=IF((C16/$C$15<1),(INDEX('Criteria Weighting Survey'!$C$12:$C$20,MATCH(MIN(ABS('Criteria Weighting Survey'!$C$12:$C$20-(C16/$C$15))),ABS('Criteria Weighting Survey'!$C$12:$C$20-(C16/$C$15)),0))),ROUND(C16/$C$15,0))} -> 0.2 | M43: {=IF((C16/$C$16<1),(INDEX('Criteria Weighting Survey'!$C$12:$C$20,MATCH(MIN(ABS('Criteria Weighting Survey'!$C$12:$C$20-(C16/$C$16))),ABS('Criteria Weighting Survey'!$C$12:$C$20-(C16/$C$16)),0))),ROUND(C16/$C$16,0))} -> 1 | N43: {=IF((C16/$C$17<1),(INDEX('Criteria Weighting Survey'!$C$12:$C$20,MATCH(MIN(ABS('Criteria Weighting Survey'!$C$12:$C$20-(C16/$C$17))),ABS('Criteria Weighting Survey'!$C$12:$C$20-(C16/$C$17)),0))),ROUND(C16/$C$17,0))} -> 0.2 | O43: {=IF((C16/$C$18<1),(INDEX('Criteria Weighting Survey'!$C$12:$C$20,MATCH(MIN(ABS('Criteria Weighting Survey'!$C$12:$C$20-(C16/$C$18))),ABS('Criteria Weighting Survey'!$C$12:$C$20-(C16/$C$18)),0))),ROUND(C16/$C$18,0))} -> 0.2 | P43: {=IF((C16/$C$19<1),(INDEX('Criteria Weighting Survey'!$C$12:$C$20,MATCH(MIN(ABS('Criteria Weighting Survey'!$C$12:$C$20-(C16/$C$19))),ABS('Criteria Weighting Survey'!$C$12:$C$20-(C16/$C$19)),0))),ROUND(C16/$C$19,0))} -> 1
